BEGIN:VCALENDAR
VERSION:2.0
PRODID:-//Bettina Fechner - ECPv4.9.14//NONSGML v1.0//EN
CALSCALE:GREGORIAN
METHOD:PUBLISH
X-WR-CALNAME:Bettina Fechner
X-ORIGINAL-URL:https://bettinafechner.de
X-WR-CALDESC:Veranstaltungen im Bettina Fechner
BEGIN:VTIMEZONE
TZID:Europe/Paris
BEGIN:DAYLIGHT
TZOFFSETFROM:+0100
TZOFFSETTO:+0200
TZNAME:CEST
DTSTART:20260329T010000
END:DAYLIGHT
BEGIN:STANDARD
TZOFFSETFROM:+0200
TZOFFSETTO:+0100
TZNAME:CET
DTSTART:20261025T010000
END:STANDARD
END:VTIMEZONE
BEGIN:VEVENT
DTSTART;VALUE=DATE:20260228
DTEND;VALUE=DATE:20260301
DTSTAMP:20260419T131059
CREATED:20190718T074640Z
LAST-MODIFIED:20260203T200309Z
UID:1901-1772236800-1772323199@bettinafechner.de
SUMMARY:Systemische Aufstellungen\, Konstanz\, Sonntag
DESCRIPTION:Seminartag mit Systemischen Familienaufstellungen\nSeminartag mit Systemischen Aufstellungen\nSystemische Aufstellungen geben die Möglichkeit\, nicht geklärte Verstrickungen und Traumatisierungen aus der Herkunftsfamilie zu erkennen und zu lösen. Denn gerade diese Themen sind es\, die sich im gegenwärtigen Lebensbereich fortsetzen. Ungelöste Konflikte mit Eltern oder anderen Familienmitgliedern spiegeln sich in den Beziehungen mit unseren Partnern\, Kindern\, Chefs oder Mitarbeitern wieder.\nAufstellungen dienen dazu\, Versöhnung in Lebensbereiche zu bringen\, die bis dahin belastend und verletzend waren. Wir schauen auf das\, was löst und das\, was verbindet.\nDer Seminartag bietet Raum für Aufstellungen zu Beziehungsthemen\, Lebensfragen\, beruflichen Zusammenhängen oder Krankheiten. \nTermin:\nSamstag\, den 28. Februar 2026\nUhrzeit: 10 bis ca. 18:00 Uhr \nOrt:\nHofhaus im Paradies\, Räumlichkeiten Ruff. Weber. Architekten\nBrauneggerstr. 34a\, 78462 Konstanz\n \nSeminarleitung: \nBettina Fechner\, Heilpraktikerin \nKosten:\nfür Teilnehmer mit eigener Aufstellung: € 160\,- / Tag\nfür teilnehmende Beobachter: € 50\,- / Tag \nAnmeldung:\nBettina Fechner\nHeilpraktikerin\nIm Hugenberg 7\n78234 Engen \nTel. 0 77 33 – 50 36 77\ninfo@bettinafechner.de\nwww.bettinafechner.de\n \n
URL:https://bettinafechner.de/event/systemische-aufstellungen-konstanz-februar
LOCATION:Hofhaus im Paradies\, Konstanz\, Räumlichkeiten Ruff. Weber. Architekten\, Brauneggerstr. 34a\, Konstanz\, 78315\, Deutschland
CATEGORIES:Konstanz,Systemische Aufstellungen
ORGANIZER;CN="Bettina%20Fechner":MAILTO:info@bettinafechner.de
END:VEVENT
END:VCALENDAR